BEGIN:VCALENDAR
VERSION:2.0
PRODID:-//Karnaper Netzwerk - ECPv4.9.3.1//NONSGML v1.0//EN
CALSCALE:GREGORIAN
METHOD:PUBLISH
X-WR-CALNAME:Karnaper Netzwerk
X-ORIGINAL-URL:https://karnaper-netzwerk.de
X-WR-CALDESC:Veranstaltungen im Karnaper Netzwerk
BEGIN:VEVENT
DTSTART;TZID=UTC+0:20180914T190000
DTEND;TZID=UTC+0:20180914T190000
DTSTAMP:20260421T193627
CREATED:20180914T155807Z
LAST-MODIFIED:20181209T200701Z
UID:16231-1536951600-1536951600@karnaper-netzwerk.de
SUMMARY:23. Stadtteilfest Altenessen
DESCRIPTION:Freitag\, 14. September\nbis Sonntag\, 16. September 2018\nAltenessener Straße\, Markt- und Karlsplatz\, Forum\n\nHerbstkirmes\nBiergärten\nHändlermeile\nKirchenwiese\nGourmet-Stände\nLive-Musik auf 2 Bühnen\nÖkumenischer Abendsegen\n(Freitag\, 14.09.\, Alte Kirche\, 19:00 Uhr)\n\nDas Stadtteilfest mit Tradition freut sich auch in diesem Jahr wieder seine Pforten zu öffnen. \n
URL:https://karnaper-netzwerk.de/event/23-stadtteilfest-altenessen/
CATEGORIES:Kultur,Stadtteilfest
ATTACH;FMTTYPE=image/png:https://karnaper-netzwerk.de/wp-content/uploads/2018/08/alrenessen-fest.png
END:VEVENT
END:VCALENDAR