BEGIN:VCALENDAR
VERSION:2.0
PRODID:-//Karnaper Netzwerk - ECPv4.9.3.1//NONSGML v1.0//EN
CALSCALE:GREGORIAN
METHOD:PUBLISH
X-WR-CALNAME:Karnaper Netzwerk
X-ORIGINAL-URL:https://karnaper-netzwerk.de
X-WR-CALDESC:Veranstaltungen im Karnaper Netzwerk
BEGIN:VEVENT
DTSTART;VALUE=DATE:20191109
DTEND;VALUE=DATE:20191110
DTSTAMP:20260421T201728
CREATED:20190919T202557Z
LAST-MODIFIED:20190919T203137Z
UID:16835-1573257600-1573343999@karnaper-netzwerk.de
SUMMARY:Martinslaternen basteln
DESCRIPTION:Am 9. November werden Martinslaternen gebastelt und Spukgeschichten erzählt.\n  \n  \n
URL:https://karnaper-netzwerk.de/event/fest-der-herzen-basteln-geschichten-erzaehlen/
END:VEVENT
END:VCALENDAR