BEGIN:VCALENDAR
VERSION:2.0
PRODID:-//Karnaper Netzwerk - ECPv4.9.3.1//NONSGML v1.0//EN
CALSCALE:GREGORIAN
METHOD:PUBLISH
X-WR-CALNAME:Karnaper Netzwerk
X-ORIGINAL-URL:https://karnaper-netzwerk.de
X-WR-CALDESC:Veranstaltungen im Karnaper Netzwerk
BEGIN:VEVENT
DTSTART;TZID=UTC+0:20180905T163000
DTEND;TZID=UTC+0:20180905T190000
DTSTAMP:20260421T164931
CREATED:20180905T160439Z
LAST-MODIFIED:20181209T203117Z
UID:16235-1536165000-1536174000@karnaper-netzwerk.de
SUMMARY:Großes Karnaper Netzwerktreffen
DESCRIPTION:Veranstaltungsbeschreibung\nAlle Mitglieder des Karnaper Netzwerkes und Bürger\, die Interesse haben sich am Karnaper Netzwerk zu beteiligen\, um Kindern Veranstaltungen näher zu bringen sind herzlich zum “großen Karnaper Netzwerk Treffen” eingeladen. \nEs findet am 05.09.2018 in der \nSt. Marien Kirche\nMeersternweg 10-18\,\n45329 Essen \nab 16:30 Uhr statt. \n
URL:https://karnaper-netzwerk.de/event/grosses-karnaper-netzwerktreffen/
LOCATION:St. Marien Kirche\, Meersternweg 10-18\, Essen\, NRW\, 45329\, Deutschland
CATEGORIES:Karnaper Netzwerk
ATTACH;FMTTYPE=image/png:https://karnaper-netzwerk.de/wp-content/uploads/2018/08/logo3.png
ORGANIZER;CN="Karnaper%20Netzwerk":MAILTO:info@karnaper-netzwerk.de
END:VEVENT
END:VCALENDAR