BEGIN:VCALENDAR
VERSION:2.0
PRODID:-//Karnaper Netzwerk - ECPv4.9.3.1//NONSGML v1.0//EN
CALSCALE:GREGORIAN
METHOD:PUBLISH
X-WR-CALNAME:Karnaper Netzwerk
X-ORIGINAL-URL:https://karnaper-netzwerk.de
X-WR-CALDESC:Veranstaltungen im Karnaper Netzwerk
BEGIN:VEVENT
DTSTART;TZID=UTC+0:20180925T173000
DTEND;TZID=UTC+0:20180925T190000
DTSTAMP:20260421T221336
CREATED:20160630T230000Z
LAST-MODIFIED:20181209T200224Z
UID:10792-1537896600-1537902000@karnaper-netzwerk.de
SUMMARY:Informationsveranstaltung - Jobvermittlung für Neuzugewanderte
DESCRIPTION:\n\n\n\n\n\n\nInformationsveranstaltung\n\nThema: \n\nJobvermittlung für Neuzugewanderte – Angebote und neue Ausbildungsmaßnahmen des JobCenters Essen\n\n\nDatum:\n\nDienstag\, den 25. September 2018\n\n\nBeginn/Ende:\n\n17:30 – 19:00 Uhr\n\n\nTagungsort:\n\nGroßer Saal der St. Gertrud Gemeinde\nRottstraße 36\, 45127 Essen\n\n\n\nDer Bereichsleiter der Zentralen Dienste des JobCenters Essen\, Herr Bodo Kalveram\, wird über die aktuelle Arbeitsmarktsituation in verschiedenen Branchen berichten\, neue und geplante Ausbildungsmaßnahmen für Neuzugewanderte vorstellen sowie über die Zuständigkeiten des JobCenters Essen informieren. Herr Kalveran wird auch Fragen zum Thema Jobvermittlung für Neuzugewanderte beantworten. \n  \nDie Veranstaltung richtet sich an ehrenamtlich Tätige. Die Teilnahme ist kostenlos\, um Anmeldungen wird gebeten an: \nkoordination.ehrenamt@cse.ruhr  oder Tel.: 0201 / 632569 – 860 \n\n\n\n\n\n\n\n\n\n\n\n\n\n\n\n\n\n\n\n\n\n\n\n\n\n\n\n\n
URL:https://karnaper-netzwerk.de/event/informationsveranstaltung-jobvermittlung-fuer-neuzugewanderte/
LOCATION:Karnap\, Essen - Karnap\, NRW\, Deutschland
CATEGORIES:University life
ATTACH;FMTTYPE=image/jpeg:https://karnaper-netzwerk.de/wp-content/uploads/2018/09/information-1015297_1920.jpg
ORGANIZER;CN="CSE":MAILTO:koordination.ehrenamt@cse.ruhr
END:VEVENT
END:VCALENDAR