BEGIN:VCALENDAR
VERSION:2.0
PRODID:-//Karnaper Netzwerk - ECPv4.9.3.1//NONSGML v1.0//EN
CALSCALE:GREGORIAN
METHOD:PUBLISH
X-WR-CALNAME:Karnaper Netzwerk
X-ORIGINAL-URL:https://karnaper-netzwerk.de
X-WR-CALDESC:Veranstaltungen im Karnaper Netzwerk
BEGIN:VEVENT
DTSTART;TZID=UTC+1:20190511T130000
DTEND;TZID=UTC+1:20190511T130000
DTSTAMP:20260421T150429
CREATED:20190331T220824Z
LAST-MODIFIED:20190331T220824Z
UID:16803-1557579600-1557579600@karnaper-netzwerk.de
SUMMARY:Kunterbuntes Sommerfest
DESCRIPTION: \n
URL:https://karnaper-netzwerk.de/event/kunterbuntes-sommerfest/
LOCATION:Am Spielplatz Thusneldastraße\, Thusneldastraße\, Essen\, Deutschland
END:VEVENT
END:VCALENDAR