BEGIN:VCALENDAR
VERSION:2.0
PRODID:-//Karnaper Netzwerk - ECPv4.9.3.1//NONSGML v1.0//EN
CALSCALE:GREGORIAN
METHOD:PUBLISH
X-WR-CALNAME:Karnaper Netzwerk
X-ORIGINAL-URL:https://karnaper-netzwerk.de
X-WR-CALDESC:Veranstaltungen im Karnaper Netzwerk
BEGIN:VEVENT
DTSTART;TZID=UTC+0:20180918T150000
DTEND;TZID=UTC+0:20180918T170000
DTSTAMP:20260421T211115
CREATED:20160712T230000Z
LAST-MODIFIED:20181209T200556Z
UID:10801-1537282800-1537290000@karnaper-netzwerk.de
SUMMARY:Spiele auf der ganzen Welt - in Essen Karnap
DESCRIPTION:Spiele auf der ganzen Welt – in Essen Karnap\n  \nWir spielen gemeinsam tolle Spiele. Kommt mit! \n
URL:https://karnaper-netzwerk.de/event/spiele-auf-der-ganzen-welt-in-essen-karnap/
LOCATION:Karnap\, Essen - Karnap\, NRW\, Deutschland
CATEGORIES:Bastel- und Spielangebote Bastel- und Spielangebote,Workshop
ATTACH;FMTTYPE=image/png:https://karnaper-netzwerk.de/wp-content/uploads/2018/01/Spieleauf-der-ganzenWelt.png
END:VEVENT
END:VCALENDAR