BEGIN:VCALENDAR
VERSION:2.0
PRODID:-//Karnaper Netzwerk - ECPv4.9.3.1//NONSGML v1.0//EN
CALSCALE:GREGORIAN
METHOD:PUBLISH
X-WR-CALNAME:Karnaper Netzwerk
X-ORIGINAL-URL:https://karnaper-netzwerk.de
X-WR-CALDESC:Veranstaltungen im Karnaper Netzwerk
BEGIN:VEVENT
DTSTART;TZID=UTC+0:20181208T140000
DTEND;TZID=UTC+0:20181208T163000
DTSTAMP:20260421T173120
CREATED:20160707T230000Z
LAST-MODIFIED:20181209T195300Z
UID:10800-1544277600-1544286600@karnaper-netzwerk.de
SUMMARY:Treffpunkt Karnap (im Dezember)
DESCRIPTION:Veranstaltungsbeschreibung \n\nWir treffen uns am Samstag\, 08.12.2018  von 14 Uhr bis 16:30Uhr  im \nEv. Gemeindezentrum Karnap\nHattramstraße 33\n45329 Essen Karnap \nAn jedem 2. Samstag im Monat (außer im Sommer) lädt das Zukunft Bildungswerk in Zusammenarbeit mit Ehrenamtlern vom Treffpunkt Karnap\, Ayla Eskin und dem Ev. Gemeindezentrum Karnap zum Treffen für alle Nachbarn und Familien aus dem Stadtteil ein. Bei kostenlosem Kaffee/Tee und Kuchen können Sie ins Gespräch miteinander kommen oder Brett-\, Karten- und Würfelspiele spielen. Für Kinder gibt es zahlreiche Bastelangebote. \n\nWeitere Termine: (monatlich)\nSa.\, 12.01.2019 – 14Uhr bis 16:30Uhr\nSa.\, 09.02.2019 – 14Uhr bis 16:30Uhr\nSa.\, 09.03.2019 – 14Uhr bis 16:30Uhr\nSa.\, 13.04.2019 – 14Uhr bis 16:30Uhr\nSa.\, 11.05.2019 – 14Uhr bis 16:30Uhr \nVeranstaltungs Inhalt\nWas wird im Treffpunkt Karnap angeboten? \n– Roswitha & Turgay\nKaffeeklatsch bzw. Teeklatsch \n– „MärchenMarie“\, Stella & Micha\nBastelstraße & Angebot \n– Doris & Meschi\nBrett-\, Karten-\, & Würfelspiele \nEs gibt bereits Spielestammtische in „Rummikub“ & “Skat”.\nDamit alles vorbereitet ist\, melden Sie sich für die Stammtische bitte an!\nWeitere Stammtische werden folgen. \nBesondere Aktionen (Gemeinsames Singen\, Grillen\, weitere Workshops etc.) werden auf der Hompage oder bei Facebook bekanntgegeben.\nHomepage: www.treffpunktkarnap.de\nFacebook: treffpunkt KARNAP \nKommen Sie zu Kaffee\, Kuchen (kostenlos) und Gesprächen. Gerne werden Kuchenspenden entgegengenommen. \nAnsprechpartner:\nDoris Morr (Treffpunkt Karnap)\nFestnetz: 0201 – 27989838\nE-Mail: treffpunktkarnap@gmail.com\nHomepage: www.treffpunktkarnap.de \nRoswitha Tschüter (Treffpunkt Karnap) \nTurgay Tahtabaş (Zukunft Bildungswerk) \n
URL:https://karnaper-netzwerk.de/event/treffpunkt_dez/
LOCATION:Karnap\, Essen - Karnap\, NRW\, Deutschland
CATEGORIES:Bastel- und Spielangebote Bastel- und Spielangebote,Ebru Kunst,Elterncafé,Karnaper Netzwerk,Märchenmarie,Stadtteilfest,Treffpunkt
ATTACH;FMTTYPE=image/png:https://karnaper-netzwerk.de/wp-content/uploads/2018/02/Treffpunktkurse_800x500.png
END:VEVENT
END:VCALENDAR